BEGIN:VCALENDAR
VERSION:2.0
PRODID:-//Sun Gate Foundation - ECPv6.15.20//NONSGML v1.0//EN
CALSCALE:GREGORIAN
METHOD:PUBLISH
X-WR-CALNAME:Sun Gate Foundation
X-ORIGINAL-URL:https://sun-gate.org
X-WR-CALDESC:Events for Sun Gate Foundation
REFRESH-INTERVAL;VALUE=DURATION:PT1H
X-Robots-Tag:noindex
X-PUBLISHED-TTL:PT1H
BEGIN:VTIMEZONE
TZID:America/New_York
BEGIN:DAYLIGHT
TZOFFSETFROM:-0500
TZOFFSETTO:-0400
TZNAME:EDT
DTSTART:20250309T070000
END:DAYLIGHT
BEGIN:STANDARD
TZOFFSETFROM:-0400
TZOFFSETTO:-0500
TZNAME:EST
DTSTART:20251102T060000
END:STANDARD
BEGIN:DAYLIGHT
TZOFFSETFROM:-0500
TZOFFSETTO:-0400
TZNAME:EDT
DTSTART:20260308T070000
END:DAYLIGHT
BEGIN:STANDARD
TZOFFSETFROM:-0400
TZOFFSETTO:-0500
TZNAME:EST
DTSTART:20261101T060000
END:STANDARD
BEGIN:DAYLIGHT
TZOFFSETFROM:-0500
TZOFFSETTO:-0400
TZNAME:EDT
DTSTART:20270314T070000
END:DAYLIGHT
BEGIN:STANDARD
TZOFFSETFROM:-0400
TZOFFSETTO:-0500
TZNAME:EST
DTSTART:20271107T060000
END:STANDARD
END:VTIMEZONE
BEGIN:VEVENT
DTSTART;TZID=America/New_York:20260613T190000
DTEND;TZID=America/New_York:20260613T220000
DTSTAMP:20260421T082951
CREATED:20251209T213522Z
LAST-MODIFIED:20260420T200225Z
UID:3482-1781377200-1781388000@sun-gate.org
SUMMARY:Keys to Freedom: A Journey to Liberation Through Education
DESCRIPTION:Join us. Be the key. Give today. \nClick here to book your hotel\, conveniently located just 50 yards from the venue. \n  \n  \nSupport Sun Gate Foundation’s 2026 Fundraiser \nEvery survivor of human trafficking carries within them a story\, not just of pain and loss\, but of unimaginable courage. Behind every scar is strength. Behind every broken dream is the quiet determination to rise again. \nAt Sun Gate Foundation\, we believe that true freedom is not just the absence of abuse; it is the presence of opportunity. It’s the power to dream again\, to learn again\, and to build a life rooted in dignity\, confidence\, and purpose. \nThat’s why our 2026 campaign\, “Keys to Freedom: A Journey to Liberation Through Education\,” is not simply a fundraiser; it’s a call to action. It’s a movement of hope. It’s a declaration that survivors are not defined by what was done to them\, but by what they choose to become next. \nWhen you invest in a survivor’s education\, you’re not just opening a door\, you’re building a bridge to freedom. \nYour Gift Unlocks Possibility: \n\nEducation & Training: Tuition for college\, trade\, or certification programs that open new paths to success.\nTools for Success: Textbooks\, laptops\, and materials that make learning possible.\nCareer Development: Opportunities for survivors to grow\, lead\, and achieve economic independence.\nEmpowerment & Belonging: A supportive community that reminds survivors — you are seen\, you are valued\, you are limitless.\n\nEvery Gift is a Key \nEvery dollar you give becomes a key\, unlocking a classroom\, a dream\, a destiny. \nYour generosity tells a survivor\, “You are worthy of more.”\nIt whispers\, “Your story is not over.”\nAnd it declares\, “Your freedom is not just something you survived\, it’s something you will thrive in.” \nWhen you give\, you don’t just fund an education\, you ignite transformation. You become part of someone’s redemption story. \nTogether\, let’s open the gates of opportunity. Let’s turn survivors into scholars\, leaders\, healers\, and changemakers. \nBecause freedom is not complete until every survivor has the chance to live fully\, love deeply\, and learn freely. \nJoin us. Be the key. Give today. \n  \n  \nClick here to book your hotel\, conveniently located just 50 yards from the venue.
URL:https://sun-gate.org/event/keys-to-freedom-a-journey-to-liberation-through-education/
LOCATION:College Park Marriot Hotel & Conference Center\, 3501 University Blvd. E\, Hyattsville\,\, MD\, 20783\, United States
CATEGORIES:Events Grid,Events List,Upcoming Event
ATTACH;FMTTYPE=image/jpeg:https://sun-gate.org/wp-content/uploads/2025/12/KEYS-TO-FREEDOM-flyer-4.13.2026.jpg
ORGANIZER;CN="Sun Gate Foundation":MAILTO:shamere@sun-gate.org
END:VEVENT
END:VCALENDAR